BEGIN:VCALENDAR
VERSION:2.0
PRODID:-//HEGL高輪校 - ECPv6.15.18//NONSGML v1.0//EN
CALSCALE:GREGORIAN
METHOD:PUBLISH
X-WR-CALNAME:HEGL高輪校
X-ORIGINAL-URL:https://vor.co.jp/hegl
X-WR-CALDESC:HEGL高輪校 のイベント
REFRESH-INTERVAL;VALUE=DURATION:PT1H
X-Robots-Tag:noindex
X-PUBLISHED-TTL:PT1H
BEGIN:VTIMEZONE
TZID:UTC
BEGIN:STANDARD
TZOFFSETFROM:+0000
TZOFFSETTO:+0000
TZNAME:UTC
DTSTART:20250101T000000
END:STANDARD
END:VTIMEZONE
BEGIN:VEVENT
DTSTART;TZID=UTC:20260531T100000
DTEND;TZID=UTC:20260531T120000
DTSTAMP:20260421T184737
CREATED:20260403T093025Z
LAST-MODIFIED:20260410T044252Z
UID:1128-1780221600-1780228800@vor.co.jp
SUMMARY:【5月31日開催】入室説明会＆体験会
DESCRIPTION:無料体験会となっております。 \n我が校の説明会ともなりますので、ぜひお子さんとご一緒のご参加をお待ちにしております。 \n参加をご希望の方は下記のフォームにて申込みください。 \n✨無料申し込みLINE登録✨
URL:https://vor.co.jp/hegl/event/%e5%85%a5%e5%ae%a4%e8%aa%ac%e6%98%8e%e4%bc%9a%ef%bc%86%e4%bd%93%e9%a8%93%e4%bc%9a260531/
LOCATION:ヴォルテックスセミナールーム\, 高輪３丁目１１−５ 4F\, 港区\, 東京都\, 108-0074\, Japan
CATEGORIES:無料体験会・説明会
END:VEVENT
BEGIN:VEVENT
DTSTART;TZID=UTC:20260530T100000
DTEND;TZID=UTC:20260530T120000
DTSTAMP:20260421T184737
CREATED:20260403T092841Z
LAST-MODIFIED:20260410T044233Z
UID:1123-1780135200-1780142400@vor.co.jp
SUMMARY:【5月30日開催】入室説明会＆体験会
DESCRIPTION:無料体験会となっております。 \n我が校の説明会ともなりますので、ぜひお子さんとご一緒のご参加をお待ちにしております。 \n参加をご希望の方は下記のフォームにて申込みください。 \n✨無料申し込みLINE登録✨
URL:https://vor.co.jp/hegl/event/%e5%85%a5%e5%ae%a4%e8%aa%ac%e6%98%8e%e4%bc%9a%ef%bc%86%e4%bd%93%e9%a8%93%e4%bc%9a260530/
LOCATION:ヴォルテックスセミナールーム\, 高輪３丁目１１−５ 4F\, 港区\, 東京都\, 108-0074\, Japan
CATEGORIES:無料体験会・説明会
END:VEVENT
BEGIN:VEVENT
DTSTART;TZID=UTC:20260528T100000
DTEND;TZID=UTC:20260528T120000
DTSTAMP:20260421T184737
CREATED:20260309T091822Z
LAST-MODIFIED:20260410T044204Z
UID:342-1779962400-1779969600@vor.co.jp
SUMMARY:【5月28日開催】入室説明会＆体験会
DESCRIPTION:無料体験会となっております。 \n我が校の説明会ともなりますので、ぜひお子さんとご一緒のご参加をお待ちにしております。 \n参加をご希望の方は下記のフォームにて申込みください。 \n✨無料申し込みLINE登録✨
URL:https://vor.co.jp/hegl/event/%e5%85%a5%e5%ae%a4%e8%aa%ac%e6%98%8e%e4%bc%9a%ef%bc%86%e4%bd%93%e9%a8%93%e4%bc%9a260528/
LOCATION:ヴォルテックスセミナールーム\, 高輪３丁目１１−５ 4F\, 港区\, 東京都\, 108-0074\, Japan
CATEGORIES:無料体験会・説明会
END:VEVENT
END:VCALENDAR