﻿BEGIN:VCALENDAR
VERSION:2.0
PRODID:-//VORTEX公式 - ECPv6.15.20//NONSGML v1.0//EN
CALSCALE:GREGORIAN
METHOD:PUBLISH
X-WR-CALNAME:VORTEX公式
X-ORIGINAL-URL:https://vor.co.jp
X-WR-CALDESC:VORTEX公式 のイベント
REFRESH-INTERVAL;VALUE=DURATION:PT1H
X-Robots-Tag:noindex
X-PUBLISHED-TTL:PT1H
BEGIN:VTIMEZONE
TZID:Asia/Tokyo
BEGIN:STANDARD
TZOFFSETFROM:+0900
TZOFFSETTO:+0900
TZNAME:JST
DTSTART:20250101T000000
END:STANDARD
END:VTIMEZONE
BEGIN:VEVENT
DTSTART;TZID=Asia/Tokyo:20260127T190000
DTEND;TZID=Asia/Tokyo:20260127T213000
DTSTAMP:20260426T015530
CREATED:20260122T092952Z
LAST-MODIFIED:20260122T093300Z
UID:1453-1769540400-1769549400@vor.co.jp
SUMMARY:パラレルワープ・メンタリング体験会
DESCRIPTION:≪講師≫　遠藤 隆弘\n\nday3：2026年1月27日（火）19:00-21:30\n※ご参加にあたり、Zoomのご案内をLINE経由でお届けする形に変更となりました。\n※LINE登録についてはこちらにお問い合わせください▶︎VORTEXお問い合わせ
URL:https://vor.co.jp/event/%e3%83%91%e3%83%a9%e3%83%ac%e3%83%ab%e3%83%af%e3%83%bc%e3%83%97%e3%83%bb%e3%83%a1%e3%83%b3%e3%82%bf%e3%83%aa%e3%83%b3%e3%82%b0%e4%bd%93%e9%a8%93%e4%bc%9a/
CATEGORIES:メンタリング
END:VEVENT
BEGIN:VEVENT
DTSTART;TZID=Asia/Tokyo:20260126T130000
DTEND;TZID=Asia/Tokyo:20260126T180000
DTSTAMP:20260426T015530
CREATED:20260122T091900Z
LAST-MODIFIED:20260122T092313Z
UID:1450-1769432400-1769450400@vor.co.jp
SUMMARY:メンタリング8期グループメンタリング＆リーダーズ：4回目
DESCRIPTION:≪講師≫　遠藤隆弘\n\nzoom開催\n2026年1月26日（月）13:00-18:00\n\n\nzoom url、詳細については参加者の皆様のメールアドレスにお送りいたします。
URL:https://vor.co.jp/event/%e3%83%a1%e3%83%b3%e3%82%bf%e3%83%aa%e3%83%b3%e3%82%b08%e6%9c%9f%e3%82%b0%e3%83%ab%e3%83%bc%e3%83%97%e3%83%a1%e3%83%b3%e3%82%bf%e3%83%aa%e3%83%b3%e3%82%b0%ef%bc%86%e3%83%aa%e3%83%bc%e3%83%80%e3%83%bc/
CATEGORIES:メンタリング
END:VEVENT
END:VCALENDAR